BEGIN:VCALENDAR
VERSION:2.0
PRODID:-//hacksw/handcal//NONSGML v1.0//EN
CALSCALE:GREGORIAN
BEGIN:VEVENT
ORGANIZER;CN=First Watch Restaurant Group, Inc:MAILTO:no-reply@gcs-web.com
DTEND:
UID:604162b4-d19e-4699-89df-cb010ab1228f
DTSTAMP:1776953163
LOCATION:https://viavid.webcasts.com/starthere.jsp?ei=1755105&tp_key=b244e6c253
DESCRIPTION:Event Details https://investors.firstwatch.com/events/event-details/q1-2026-earnings-conference-call\n\nWebcast: https://viavid.webcasts.com/starthere.jsp?ei=1755105&tp_key=b244e6c253
URL;VALUE=URI:https://viavid.webcasts.com/starthere.jsp?ei=1755105&tp_key=b244e6c253
SUMMARY:First Watch Restaurant Group, Inc - Q1 2026 Earnings Conference Call
DTSTART:20260505T120000Z
END:VEVENT
END:VCALENDAR